BEGIN:VCALENDAR
VERSION:2.0
PRODID:-//wp-events-plugin.com//6.6.4.4//EN
BEGIN:VEVENT
UID:1321@ggzlimburg.be
DTSTART:20260507T110000Z
DTEND:20260507T130000Z
DTSTAMP:20260102T103701Z
URL:https://ggzlimburg.be/events/supervisie-eetproblemen-en-eetstoornissen
 -voor-dietisten-en-psychologen-2/
SUMMARY:Supervisie "Eetproblemen en eetstoornissen" voor diëtisten en psyc
 hologen
DESCRIPTION:Dit moment richt zich op diëtisten en psychologen die werken m
 et eetstoornissen. Tijdens deze supervisie gaan we dieper in op het werken
  met ouders en gezinnen\, dit vooral bij jongeren en volwassenen die nog t
 huis wonen. Met de jongeren werken is belangrijk\, maar hoe betrekken we d
 e ouders? Vanaf wanneer en tot waar is het zinvol de ouders te betrekken. 
 Welke dynamieken kunnen spelen\, hoe kan je hier als diëtist op inspelen 
 en waar bots je op in het werken met het systeem? Deze en nog andere vrage
 n rond dit thema kunnen hier aan bod komen.\n\nLocatie: Provinciehuis Limb
 urg\, Universiteitslaan 1\, 3500 Hasselt\n\nSprekers: Leden van het MAST E
 etstoornissen: Sylvia Gijbels (psycholoog)\, Marlies Treunen (psycholoog)\
 , Lobke Husson (diëtist) en Pieter Cuypers (kinder- en jeugdpsychiater).\
 n\nInschrijven: Schrijf je in via deze link. Geef zeker een casus of vrag
 en mee als je die wil bespreken.\n\nPrijs: Deze supervisie is gratis.\n\nH
 eb je nog vragen? Neem contact met het MAST Eetstoornissen (mast@ligant.be
 ).
CATEGORIES:0 - 18 jaar,Leeftijd,Vormingen,Vormingen-login
LOCATION:Provinciehuis\, Universiteitslaan 1\, Hasselt\, Limburg\, 3500\, B
 elgië
GEO:50.930355;5.363478
X-APPLE-STRUCTURED-LOCATION;VALUE=URI;X-ADDRESS=Universiteitslaan 1\, Hasse
 lt\, Limburg\, 3500\, België;X-APPLE-RADIUS=100;X-TITLE=Provinciehuis:geo
 :50.930355,5.363478
END:VEVENT
END:VCALENDAR