BEGIN:VCALENDAR
VERSION:2.0
PRODID:-//wp-events-plugin.com//6.6.4.4//EN
BEGIN:VEVENT
UID:1322@ggzlimburg.be
DTSTART:20260619T070000Z
DTEND:20260619T090000Z
DTSTAMP:20260102T103942Z
URL:https://ggzlimburg.be/events/supervisie-systemisch-werken-bij-eetstoor
 nissen/
SUMMARY:Supervisie systemisch werken bij eetstoornissen
DESCRIPTION:Deze supervisie zal gaan rond het systemisch werken met gezin
 nen en context bij eetstoornissen.\nNaast een korte theoretische uiteenzet
 ting zal er ruimte zijn om eigen casussen in te brengen of de input van an
 deren te vragen rond terugkerende uitdagingen betreffende dit thema.\n\nLo
 catie: Provinciehuis Limburg\, Universiteitslaan 1\, 3500 Hasselt\n\nSprek
 ers: Leden van het MAST Eetstoornissen: Sylvia Gijbels (psycholoog)\, Marl
 ies Treunen (psycholoog)\, Lobke Husson (diëtist) en Pieter Cuypers (kind
 er- en jeugdpsychiater).\n\nInschrijven: Schrijf je in via deze link. Gee
 f zeker een casus of vragen mee als je die wil bespreken.\n\nPrijs: Deze s
 upervisie is gratis.\n\nHeb je nog vragen? Neem contact met het MAST Eetst
 oornissen (mast@ligant.be).
CATEGORIES:0 - 18 jaar,Leeftijd,Vormingen,Vormingen-login
LOCATION:Provinciehuis\, Universiteitslaan 1\, Hasselt\, Limburg\, 3500\, B
 elgië
GEO:50.930355;5.363478
X-APPLE-STRUCTURED-LOCATION;VALUE=URI;X-ADDRESS=Universiteitslaan 1\, Hasse
 lt\, Limburg\, 3500\, België;X-APPLE-RADIUS=100;X-TITLE=Provinciehuis:geo
 :50.930355,5.363478
END:VEVENT
END:VCALENDAR