BEGIN:VCALENDAR
VERSION:2.0
PRODID:-//wp-events-plugin.com//6.6.4.4//EN
BEGIN:VEVENT
UID:1472@ggzlimburg.be
DTSTART:20260415T080000Z
DTEND:20260415T093000Z
DTSTAMP:20260224T141722Z
URL:https://ggzlimburg.be/events/tweedaagse-emotieregulatie-voor-kleuters-
 paasvakantie/
SUMMARY:Tweedaagse emotieregulatie voor kleuters (Paasvakantie)
DESCRIPTION:Emotieregulatie voor kleuters – een tweedaags groepsaanbod vo
 or kleuters van de laatste kleuterklas (Paasvakantie ‘26)\n\nIs jouw kin
 d vaak boos\, bang of verdrietig? Blijft jouw kind lang hangen in emoties?
  Tijdens de tweedaagse training “emotieregulatie voor kleuters” leren 
 kinderen op een speelse en creatieve manier hun gevoelens herkennen en ler
 en ze manieren aan om deze te reguleren.\n\nDe training is bedoeld voor ki
 nderen van de laatste kleuterklas die willen leren hoe ze met hun gevoelen
 s kunnen omgaan. De groep wordt begeleid door twee klinisch psychologen: T
 ine Wastiels en Tine Smets.\n\nData Paasvakantie ‘26: de sessies vinden 
 plaats op woensdag 15 en donderdag 16 april 2026 telkens van 10u00-11u30.\
 n\nLocatie: Huis van het Kind Diepenbeek\, Dorpsstraat 11\n\nGratis intake
 gesprek en deelname.\n\nMeer info: mail: tine.wastiels@vonkconsult.be of t
 elefonisch: +32 497128613\n\nInschrijven kan via deze link.
ATTACH;FMTTYPE=image/jpeg:https://ggzlimburg.be/app/uploads/2026/02/affich
 e-Pasen-GGZ.png
CATEGORIES:0 - 18 jaar,Groepsaanbod,Leeftijd
LOCATION:Huis van het Kind Diepenbeek\, Dorpstraat 11\, Diepenbeek\, 3590\,
  België
GEO:50.908507;5.420506
X-APPLE-STRUCTURED-LOCATION;VALUE=URI;X-ADDRESS=Dorpstraat 11\, Diepenbeek\
 , 3590\, België;X-APPLE-RADIUS=100;X-TITLE=Huis van het Kind Diepenbeek:g
 eo:50.908507,5.420506
END:VEVENT
END:VCALENDAR