BEGIN:VCALENDAR
VERSION:2.0
PRODID:-//wp-events-plugin.com//6.6.4.4//EN
BEGIN:VEVENT
UID:1496@ggzlimburg.be
DTSTART:20260421T140000Z
DTEND:20260421T153000Z
DTSTAMP:20260305T133811Z
URL:https://ggzlimburg.be/events/van-spanning-naar-kracht-leer-omgaan-met-
 je-angsten-en-groei-in-zelfvertrouwen-terwijl-je-buiten-in-het-bos-tot-rus
 t-komt/
SUMMARY:Van Spanning naar Kracht: Leer omgaan met je angsten en groei in ze
 lfvertrouwen terwijl je buiten in het bos tot rust komt.
DESCRIPTION:Wil je sterker\, rustiger en zekerder in je schoenen staan en 
 hou je van de natuur? Dan is dit groepsaanbod iets voor jou!\n\n\n\nVind j
 e sommige situaties spannend of voel je soms een knoop in je buik? In "Van
  spanning naar kracht" ga je samen met andere jongeren van 11 tot 14 jaar 
 op pad in het bos om grip te krijgen op angst en stress.\n\nTijdens zes on
 tspannen bijeenkomsten in de natuur leer je hoe je met behulp van ademhali
 ng\, mindfulness en zelfvertrouwen-oefeningen meer rust\, kracht en overzi
 cht kunt vinden. De natuur helpt ons daarbij: bewegen\, ademen\, leren en 
 groeien tussen de bomen.\n\nGa met ons mee naar buiten en ontdek hoe krach
 tig jij van binnen bent.\nDe training gaat door bij 5 deelnemers.\n\n6 ses
 sies op dinsdagen van 16u-17u30 op 21/04\, 28/04\, 5/05\, 12/05\, 19/05\,
  26/05\n\n\nLocatie: Joekelbos Speeltuinstraat\, 3660 Oudsbergen\n\nInsc
 hrijven kan via deze link.\n\n\n\n
ATTACH;FMTTYPE=image/jpeg:https://ggzlimburg.be/app/uploads/2026/02/Tiener
 groep-Van-spanning-naar-kracht-Chris-en-Emilie.png
CATEGORIES:0 - 18 jaar,Groepsaanbod,Leeftijd
LOCATION:Joekelbos Oudsbergen\, Speeltuinstraat\, Oudsbergen\, België\, 36
 60\, België
GEO:51.053898;5.581071
X-APPLE-STRUCTURED-LOCATION;VALUE=URI;X-ADDRESS=Speeltuinstraat\, Oudsberge
 n\, België\, 3660\, België;X-APPLE-RADIUS=100;X-TITLE=Joekelbos Oudsberg
 en:geo:51.053898,5.581071
END:VEVENT
END:VCALENDAR