BEGIN:VCALENDAR
VERSION:2.0
PRODID:-//wp-events-plugin.com//6.6.4.4//EN
BEGIN:VEVENT
UID:1474@ggzlimburg.be
DTSTART:20260415T121500Z
DTEND:20260415T134500Z
DTSTAMP:20260224T142731Z
URL:https://ggzlimburg.be/events/veerkracht-als-superkracht-een-tweedaagse
 -training-voor-kinderen-uit-het-eerste-tweede-en-derde-leerjaar-paasvakant
 ie-26/
SUMMARY:Veerkracht als superkracht! Een tweedaagse training voor kinderen u
 it het eerste\, tweede en derde leerjaar (Paasvakantie ‘26)
DESCRIPTION:Veerkracht als superkracht! Een tweedaagse training voor kinder
 en uit het eerste\, tweede en derde leerjaar (Paasvakantie ‘26)\n\nOntde
 k de superkracht van veerkracht met onze actieve en ervaringsgerichte twee
 daagse groepstraining voor kinderen van het eerste\, tweede en derde leerj
 aar.\n\nTijdens deze tweedaagse ontdekken we samen met de kinderen hun inn
 erlijke superkrachten. Door middel van spelletjes\, oefeningen en creatiev
 e activiteiten leren we kinderen hoe ze uitdagingen en tegenslagen kunnen 
 overwinnen en sterker in hun schoenen kunnen staan.\n\nKinderen oefenen me
 t positief denken en het ontwikkelen van een groeimindset\, leren hun emot
 ies op een gezonde manier te herkennen en te uiten en verbeteren hun socia
 le vaardigheden in een veilige en speelse omgeving.\n\nDe training is bedo
 eld voor kinderen die willen leren hoe ze sterker en veerkrachtiger kunnen
  worden. De groep wordt begeleid door twee klinisch psychologen: Tine Wast
 iels en Tine Smets.\n\nDe sessies vinden plaats tijdens de kerstvakantie o
 p woensdag 15 en donderdag 16 april 2026\, telkens van 14u15-15u45 op de l
 ocatie van Huis van het Kind Diepenbeek\, Dorpsstraat 11.\n\nMeer info: ma
 il: tine.wastiels@vonkconsult.be of telefonisch: +32 497128613\n\nInschrij
 ven via formulier op website Huis van het Kind Diepenbeek
ATTACH;FMTTYPE=image/jpeg:https://ggzlimburg.be/app/uploads/2026/02/VK-Pas
 en-GGZ.png
CATEGORIES:0 - 18 jaar,Groepsaanbod,Leeftijd
LOCATION:Huis van het Kind Diepenbeek\, Dorpstraat 11\, Diepenbeek\, 3590\,
  België
GEO:50.908507;5.420506
X-APPLE-STRUCTURED-LOCATION;VALUE=URI;X-ADDRESS=Dorpstraat 11\, Diepenbeek\
 , 3590\, België;X-APPLE-RADIUS=100;X-TITLE=Huis van het Kind Diepenbeek:g
 eo:50.908507,5.420506
END:VEVENT
END:VCALENDAR