BEGIN:VCALENDAR
VERSION:2.0
PRODID:-//wp-events-plugin.com//6.6.4.4//EN
BEGIN:VEVENT
UID:1188@ggzlimburg.be
DTSTART:20260429T131500Z
DTEND:20260429T144500Z
DTSTAMP:20251127T162120Z
URL:https://ggzlimburg.be/events/verbind-op-maat-van-je-kind-6-5-9-jaar-15
 u15-16u45/
SUMMARY:Verbind op maat van je kind (6.5-9 jaar) 15u15-16u45
DESCRIPTION:Tijdens de groepssessies gaan we samen met een tweede zorgverst
 rekker aan de slag rond de thema's stress- en emotieregulatie. We organise
 ren een traject waaraan je samen met je kind (tussen 6.5 en 9 jaar) deelne
 emt. Het doel is om op een laagdrempelige manier te sensibiliseren over me
 ntale gezondheid ( meer specifiek over de thema's stress en emoties) en wi
 llen je praktische handvaten aanreiken om je in het ouderschap te versterk
 en.  Samen verbinden op maat van je kind is ons doel. We gaan aan de slag
  met lichaamsgerichte methodieken zoals yoga\, sherborne\, ademhalingsoefe
 ningen\, meditatieoefeningen\, beweging en dans\,... maar ook creatieve oe
 feningen komen aanbod. Je ontmoet ook andere ouders die opzoek zijn naar h
 etzelfde. Je merkt snel dat je niet de enige bent in jouw situatie en dat 
 je er niet alleen voor staat.\n\nWe organiseren twee reeksen op woensdagna
 middag in Yogastudio Plooy Hasselt. De eerste reeks is telkens van 13u30-1
 5u. De tweede reeks is telkens van 15u15-16u45.\n\nInschrijven kan via lin
 sey.tiri.anthe@outlook.com\n\nMeer info: www.anthekinderyoga.be\nWoensdag 
 29/04\, 6/05\, 27/05 en 10/06 van 15u15 - 16u45\nInschrijven via linsey.ti
 ri.anthe@outlook.com\n\nMeer info: www.anthekinderyoga.be
ATTACH;FMTTYPE=image/jpeg:https://ggzlimburg.be/app/uploads/2025/11/Groeps
 aanbod-VOM-voorjaar-2026-1.png
CATEGORIES:0 - 18 jaar,Groepsaanbod,Leeftijd
LOCATION:Plooy\, Dokter Willemsstraat 19\, Hasselt\, België\, 3500\, Limbu
 rg\, België
X-APPLE-STRUCTURED-LOCATION;VALUE=URI;X-ADDRESS=Dokter Willemsstraat 19\, H
 asselt\, België\, 3500\, Limburg\, België;X-APPLE-RADIUS=100;X-TITLE=Plo
 oy:geo:0,0
END:VEVENT
END:VCALENDAR