BEGIN:VCALENDAR
VERSION:2.0
PRODID:-//wp-events-plugin.com//6.6.4.4//EN
BEGIN:VEVENT
UID:1318@ggzlimburg.be
DTSTART:20260313T160000Z
DTEND:20260313T173000Z
DTSTAMP:20260108T150651Z
URL:https://ggzlimburg.be/events/verbindende-communicatie-begrijpen-en-beg
 repen-worden/
SUMMARY:Verbindende Communicatie - Begrijpen en Begrepen worden
DESCRIPTION:In deze groep gaan we aan de slag met het aanleren van vaardigh
 eden in zelfbewustzijn\, zelfcontrole\, communicatie en het stellen van gr
 enzen. Het doel is dat je leert om je beter uit te drukken en bewuster om 
 te gaan met je interacties en relaties. Door vaardigheden aan te leren om 
 dit op een verbindende manier aan te pakken\, ontwikkel je zelfvertrouwen 
 en eigenaarschap in het vormgeven van relaties.\n\nInschrijven doe je hier
  en is meteen voor alle acht sessies.\n\nDit groepsaanbod valt binnen de c
 onventie Eerstelijnspsychologische zorg en wordt ondersteund door de netwe
 rken Geestelijke Gezondheidszorg Limburg. Meer info op www.ggzlimburg.be
ATTACH;FMTTYPE=image/jpeg:https://ggzlimburg.be/app/uploads/2025/12/Verbin
 dende-Communicatie.png
CATEGORIES:18 jaar en ouder,Groepsaanbod,Leeftijd
LOCATION:Portavida Sociaal Huis\, Welzijnscampus 11\, Genk\, 3600\, België
GEO:50.967325;5.510364
X-APPLE-STRUCTURED-LOCATION;VALUE=URI;X-ADDRESS=Welzijnscampus 11\, Genk\, 
 3600\, België;X-APPLE-RADIUS=100;X-TITLE=Portavida Sociaal Huis:geo:50.96
 7325,5.510364
END:VEVENT
END:VCALENDAR