BEGIN:VCALENDAR
VERSION:2.0
PRODID:-//wp-events-plugin.com//6.6.4.4//EN
BEGIN:VEVENT
UID:1501@ggzlimburg.be
DTSTART:20260420T110000Z
DTEND:20260420T123000Z
DTSTAMP:20260303T153110Z
URL:https://ggzlimburg.be/events/volle-batterij-gezonde-balans-2/
SUMMARY:Volle batterij\, gezonde balans
DESCRIPTION:In dit groepsaanbod voor personen met burn-out klachten geven w
 e naast info over het ontstaan en herstel van een burn-out\, concrete hand
 vaten om om te gaan met klachten zoals piekeren\, slaapproblemen en hyperv
 entilatie. Door de inzichten die je krijgt in stress\, werkomstandigheden 
 en persoonlijkheidsfactoren leer je ook wat je kan doen om herval te voork
 omen. We werken met concrete tools die je thuis kan toepassen. Zo leren we
  je ademhalings- en ontspanningstechnieken\, hoe je niet helpende gedachte
 n kan omzetten in helpende\, maar ook hoe je beter kan leren communiceren 
 over je emoties en behoeften.\n\n\nDoor wie: Sigrid Claes en Elien Box (ee
 rstelijnspsychologen)\n\n\n\n\nDeelnameprijs: €12.50 voor 5 sessies (con
 ventie eerstelijnspsychologische zorg)\n\n\n\n\nWaar: Campus Portavida\, w
 elzijnscampus 11\, 3600 Genk\n\n\n\n\nWanneer: Maandag 20/4\, maandag 27/4
 \, maandag 4/5\, woensdag 20/5 en woensdag 3/6 telkens van 13u tot 14u30.\
 n\n\nInschrijven kan via deze link: Invullen | Volle batterij\, gezonde ba
 lans. Groepsaanbod voor personen met burn-outklachten\n\nMeer info via: in
 fo@elien-box.be
ATTACH;FMTTYPE=image/jpeg:https://ggzlimburg.be/app/uploads/2026/03/Burnou
 tGenkApril2026.png
CATEGORIES:18 jaar en ouder
LOCATION:Portavida Sociaal Huis\, Welzijnscampus 11\, Genk\, 3600\, België
GEO:50.967325;5.510364
X-APPLE-STRUCTURED-LOCATION;VALUE=URI;X-ADDRESS=Welzijnscampus 11\, Genk\, 
 3600\, België;X-APPLE-RADIUS=100;X-TITLE=Portavida Sociaal Huis:geo:50.96
 7325,5.510364
END:VEVENT
END:VCALENDAR