BEGIN:VCALENDAR
VERSION:2.0
PRODID:-//wp-events-plugin.com//6.6.4.4//EN
BEGIN:VEVENT
UID:886@ggzlimburg.be
DTSTART:20260422T133000Z
DTEND:20260422T150000Z
DTSTAMP:20250708T135745Z
URL:https://ggzlimburg.be/events/vriendentraining-in-veerkracht-6/
SUMMARY:Vriendentraining in veerkracht
DESCRIPTION:Is je kind soms bang om fouten te maken? Onzeker om nieuwe ding
 en te proberen? Verlegen om nieuwe vrienden te maken?\n\nTROOST\, je kind 
 is niet alleen en kan hierin groeien!\n\n&nbsp\;\n\nDeze training is een c
 reatieve en kindvriendelijke coaching om (preventief) aan de slag te gaan 
 met de VEERKRACHT van jouw kind.\n\nZe is ondersteunend voor faalangstige 
 en hoogsensitieve kinderen van het eerste tem het derde leerjaar\n\n&nbsp\
 ;\n\nPraktische info:\n\nData: woensdagen van 15h30 tot 17h\n\n22/04/2026\
 n\n29/04/2025\n\n06/05/2026\,\n\n13/05/2026\n\n20/05/2026\n\nInfo en insch
 rijvingen:\n\nhttps://balanspmc.be/groepssessies/vriendentraining-in-veerk
 racht/\n\nOf mail: annelies.therapie1@gmail.com\n\n&nbsp\;
CATEGORIES:0 - 18 jaar,Groepsaanbod,Leeftijd
LOCATION:Gezondheidshuis Tongeren\, Via Julianus 15\, Tongeren\, 3700\, Bel
 gië
GEO:50.782156;5.469463
X-APPLE-STRUCTURED-LOCATION;VALUE=URI;X-ADDRESS=Via Julianus 15\, Tongeren\
 , 3700\, België;X-APPLE-RADIUS=100;X-TITLE=Gezondheidshuis Tongeren:geo:5
 0.782156,5.469463
END:VEVENT
END:VCALENDAR