BEGIN:VCALENDAR
VERSION:2.0
PRODID:-//wp-events-plugin.com//6.6.4.4//EN
BEGIN:VEVENT
UID:1491@ggzlimburg.be
DTSTART:20260303T153000Z
DTEND:20260303T170000Z
DTSTAMP:20260227T065834Z
URL:https://ggzlimburg.be/events/waardenvol-leven-3/
SUMMARY:Waarde(n)vol Leven
DESCRIPTION:Waarden(n)vol leven\, een groepsaanbod ACT therapie voor jongvo
 lwassenen van 16 tot 23 jaar\n\nInschrijven bij lennie.huisup@gmail.com o
 f bij sofia.huisup@gmail.com
ATTACH;FMTTYPE=image/jpeg:https://ggzlimburg.be/app/uploads/2026/02/100013
 8536.jpg
CATEGORIES:15 - 23 jaar,Groepsaanbod,Leeftijd
LOCATION:Praktijk Huis Up\, Pannenovenstraat 3\, Bilzen-Hoeselt\, 3740\, Be
 lgië
X-APPLE-STRUCTURED-LOCATION;VALUE=URI;X-ADDRESS=Pannenovenstraat 3\, Bilzen
 -Hoeselt\, 3740\, België;X-APPLE-RADIUS=100;X-TITLE=Praktijk Huis Up:geo:
 0,0
END:VEVENT
END:VCALENDAR