BEGIN:VCALENDAR
VERSION:2.0
PRODID:-//wp-events-plugin.com//6.6.4.4//EN
BEGIN:VEVENT
UID:1596@ggzlimburg.be
DTSTART:20260430T103000Z
DTEND:20260430T120000Z
DTSTAMP:20260415T121253Z
URL:https://ggzlimburg.be/events/wachtverzachters-hoe-veerkracht-vergroten
 -tijdens-de-wachttijd/
SUMMARY:Wachtverzachters: Hoe veerkracht vergroten tijdens de wachttijd?
DESCRIPTION:Sta je op de wachtlijst en voelt het alsof alles stilvalt? In o
 nze groep “wachtverzachters” sta je er niet alleen voor. Je krijgt inz
 icht en concrete handvatten om nu al kleine stappen te zetten richting wat
  er echt toe doet voor jou. Ook als je nergens op de wachtlijst staat\, be
 n je welkom om nu al te starten.\n\nWat kan je verwachten?\n\n 	Inzicht ov
 er veerkracht en hoe ga je om met stress\n 	Begrijpen hoe denken\, voelen 
 en gedrag elkaar beïnvloeden\n 	Concrete handvaten om hiermee aan de slag
  te gaan\n\nData? \n\n30/04\, 07/05\, 21/05 en 28/05 (telkens op donderdag
 en)\n\nVoor wie?\n\nDe groepssessies richten zich voornamelijk op personen
  die wachten op individuele begeleiding. Daarnaast is iedereen die wil wer
 ken aan zijn of haar veerkracht van harte welkom\n\nLocatie?\n\nWelzijnsca
 mpus 2\, via ingang B (Kruispunt Herkenrode) A. Rodenbachtstraat 20\, 3500
  Hasselt\n\nInschrijven?\n\nDat kan via deze link of de QR code op de flye
 r.
ATTACH;FMTTYPE=image/jpeg:https://ggzlimburg.be/app/uploads/2026/04/Wachtv
 erzachters-3-pdf.jpg
CATEGORIES:18 jaar en ouder,Groepsaanbod,Leeftijd
LOCATION:via ingang B\, A. Rodenbachtsraat 20\, Hasselt\, Limburg\, 3500\, 
 België
GEO:50.923833;5.342267
X-APPLE-STRUCTURED-LOCATION;VALUE=URI;X-ADDRESS=A. Rodenbachtsraat 20\, Has
 selt\, Limburg\, 3500\, België;X-APPLE-RADIUS=100;X-TITLE=via ingang B:ge
 o:50.923833,5.342267
END:VEVENT
END:VCALENDAR