BEGIN:VCALENDAR
VERSION:2.0
PRODID:-//wp-events-plugin.com//6.6.4.4//EN
BEGIN:VEVENT
UID:1489@ggzlimburg.be
DTSTART:20260429T083000Z
DTEND:20260429T100000Z
DTSTAMP:20260226T131946Z
URL:https://ggzlimburg.be/events/webinar-sparcours-en-spark-onderzoek-en-p
 raktijk-verbonden-vanuit-vlesp/
SUMMARY:Webinar SParcours en Spark: onderzoek en praktijk verbonden (vanuit
  VLESP)
DESCRIPTION:Het Vlaams Expertisecentrum Suïcidepreventie (VLESP) ontwikkel
 de in samenwerking met hulpverleners en jongeren twee nieuwe tools.\n\n 	S
 park: een gratis app om jongeren te ondersteunen in het omgaan met zelfmoo
 rdgedachten. Jongeren kunnen Spark alleen gebruiken\, maar ook samen 
 met een hulpverlener of naaste. Tijdens dit webinar stellen we de inhoud v
 an de app voor en welke mogelijkheden de app biedt binnen blended care.\n\
 n\n 	SParcours: een kaartenset die hulpverleners ondersteunt bij het bespr
 eken en verdiepend onderzoeken van suïcidaliteit bij kinderen en jongeren
  vanaf de ontwikkelingsleeftijd van 10 jaar. Aan de hand van drie verschil
 lende SuïcidePreventie-parcours\, biedt SParcours werkvormen en richtvrag
 en om in gesprek te gaan over suïcidaliteit: Babbelparcours\, Tekenparcou
 rs en Wandelparcours. De methodiek reikt handvaten aan om tot een gedegen
  Risicoformulering te komen en geeft concrete input voor het opstellen o
 f bijwerken van een persoonlijk Safety Plan.\n\nGeorganiseerd door de Vla
 amse netwerken GGZ Kinderen en Jongeren in samenwerking met vlaamse suïci
 depreventie diensten en VLESP. \n\nPresentatie door:\nLies Pittoors\n\nKo
 stprijs: Gratis\n\nInschrijven: Kun je onderaan deze pagina.\n\nOpname: \
 nDeze webinar wordt opgenomen. De opname is tot 3 maand na uitzenden besch
 ikbaar. Inschrijven is vereist om toegang te krijgen tot de opname. Inschr
 ijven kan via onderstaande inschrijvingstool.\n\nVragen of opmerkingen:\nJ
 e kan terecht bij gaia.vancauwenberg@radar.be of natascha.deblauwe@wingg.b
 e.
ATTACH;FMTTYPE=image/jpeg:https://ggzlimburg.be/app/uploads/2026/02/vlesp_
 flyer-1.500x0-is.png
CATEGORIES:Vormingen,Vormingen-login
LOCATION:https://wingg.be/agenda/webinar-sparcours-en-spark-onderzoek-en-pr
 aktijk-verbonden-vanuit-vlesp/
END:VEVENT
END:VCALENDAR