BEGIN:VCALENDAR
VERSION:2.0
PRODID:-//wp-events-plugin.com//6.6.4.4//EN
BEGIN:VEVENT
UID:1488@ggzlimburg.be
DTSTART:20260331T220000Z
DTEND:20260331T220000Z
DTSTAMP:20260226T131254Z
URL:https://ggzlimburg.be/events/webinar-verdiepend-aanbod-gedeeld-beroeps
 geheim/
SUMMARY:Webinar Verdiepend aanbod: Gedeeld Beroepsgeheim
DESCRIPTION:Intersectorale samenwerking is niet meer weg te denken als het 
 gaat over jeugdhulpverlening. Maar hoe werk je samen als het beroepsgeheim
  op jou van toepassing is? Wanneer kan je gebruik maken van het gedeeld be
 roepsgeheim en wanneer niet? In het verdiepend traject rond gedeeld beroep
 sgeheim voor professionelen die met kinderen\, jongeren en gezinnen werken
  bieden we twee zaken aan in samenwerking met STEKR:\nEen Webinar rond ged
 eeld beroepsgeheim\nTijdens deze Webinar staan we stil bij het (gedeeld) b
 eroepsgeheim en het ambtsgeheim (of discretieplicht). Wat houden beide vor
 men van geheimhoudingsplicht in? Wat is het verschil? Kan er informatie ui
 tgewisseld worden tussen de dragers van het beroepsgeheim enerzijds en die
  met ambtsgeheim anderzijds? En wat zijn de mogelijkheden om vertrouwelijk
 e informatie uit te wisselen tussen dragers van het beroepsgeheim uit vers
 chillende teams en/of sectoren?\n\nDe Webinar wordt opgenomen door juriste
  Nele Desmet van STEKR (Sterk in KinderRechten) en zal ter beschikking ges
 teld worden van 1 april tot en met 18 mei. Gezien het om een opgenomen We
 binar gaat\, is geen interactie mogelijk.\n\nDe Webinar is gratis\, maar 
 inschrijven is verplicht. Inschrijven kan tot en met 31 maart 2026.\n\nSc
 hrijf hier in om de webinar te ontvangen.\nEen online vragenuurtje rond ge
 deeld beroepsgeheim\nWie de Webinar heeft bekeken\, kan deelnemen aan het 
 online vragenuurtje nadien. Verduidelijkende en verdiepende vragen rond he
 t gedeeld beroepsgeheim (bv. naar aanleiding van een casus) kunnen gesteld
  worden op 19 mei om 10u. Jurist Nele Desmet biedt tijdens het vragenuurt
 je informatie\, advies en bijstand.\n\nWij vragen om vooraf vragen en cas
 ussen in te sturen via het inschrijvingsformulier of via mail naar lisa.ve
 rcruysse@radar.be. Je kan ook deelnemen zonder zelf vragen te stellen.\n\n
 Afhankelijk van het aantal deelnemers duurt het vragenuurtje 1 uur of 2 uu
 r.\n\nHet online vragenuurtje is gratis\, maar inschrijven is verplicht:\
 n\nSchrijf hier in voor het online vragenuurtje.\n\nBelangrijk: het gaat o
 m een verdiepend aanbod. Iedereen die deelneemt moet vooraf de opname van 
 de basisvorming beroepsgeheim bekijken. Het verdiepend aanbod laat niet 
 de ruimte om onderdelen van de basisvorming te herhalen.\n\nAlle info ook 
 op Radar.\n\n&nbsp\;
ATTACH;FMTTYPE=image/jpeg:https://ggzlimburg.be/app/uploads/2026/02/beroep
 sgeheim_5-1.500x500.png
CATEGORIES:Vormingen,Vormingen-login
LOCATION:https://www.radar.be/nieuws/verdiepend-aanbod-gedeeld-beroepsgehei
 m/
END:VEVENT
END:VCALENDAR