BEGIN:VCALENDAR
VERSION:2.0
PRODID:-//wp-events-plugin.com//6.6.4.4//EN
BEGIN:VEVENT
UID:1414@ggzlimburg.be
DTSTART:20260326T090000Z
DTEND:20260326T103000Z
DTSTAMP:20260212T120354Z
URL:https://ggzlimburg.be/events/zelfbeeld-3/
SUMMARY:Zelfbeeld
DESCRIPTION:\n\nHoe kijk jij naar jezelf?\n\n\n\nEn wat als het positiever 
 kan?\n\n\n\nMeer zelfinzicht en vertrouwen door praktische oefeningen voor
  een positiever zelfbeeld!\n\nZet de eerste stap naar meer zelfvertrouwen\
 n\n\n\n\n\n\nINFO\n\n\n\n\nDoor wie: Caroline Praet en Maartje Janssen\, E
 LP-psychologen\n\n\n\n\nDeelnameprijs:€7.50 voor 3 sessies (conventie ee
 rstelijnspsychologische zorg)\n\n\n\n\nWaar: Practimed\, De houborn\, 3960
  Bree\n\n\n\n\nWanneer: Donderdag 26/3 en 2/4 en 23/4 telkens van 11u00 to
 t 12u30\n\n\n\n\nMeer info en inschrijven kan via\n\n\n\n\ninfo@manao.be o
 f door te klikken op deze link.\n\n\n\n
ATTACH;FMTTYPE=image/jpeg:https://ggzlimburg.be/app/uploads/2026/02/Figuur
 tjes-2.png
CATEGORIES:18 jaar en ouder
LOCATION:Practimed\, De houborn 44\, Bree\, België\, 3960\, België
X-APPLE-STRUCTURED-LOCATION;VALUE=URI;X-ADDRESS=De houborn 44\, Bree\, Belg
 ië\, 3960\, België;X-APPLE-RADIUS=100;X-TITLE=Practimed:geo:0,0
END:VEVENT
END:VCALENDAR