BEGIN:VCALENDAR
VERSION:2.0
PRODID:-//wp-events-plugin.com//6.6.4.4//EN
BEGIN:VEVENT
UID:1442@ggzlimburg.be
DTSTART:20260423T130000Z
DTEND:20260423T143000Z
DTSTAMP:20260216T112311Z
URL:https://ggzlimburg.be/events/zelfzorg-als-fundament/
SUMMARY:Zelfzorg als fundament
DESCRIPTION:In deze tijd van drukte\, gejaag en onszelf voorbij lopen\, ken
 nen we allemaal ‘stress’. Maar wist je dat er goede en slechte ‘stre
 ss’ is? Of dat zelfzorg je stressbestendigheid kan verhogen?\n\nDeze cur
 sus maakt je wegwijs in stress en hoe het verband houdt met o.a. angst\, a
 ssertiviteit\, piekeren en perfectionisme. Hoog tijd voor meer zorg voor j
 ouw zelfzorg!\n\nDeze cursus kan een ideaal voortraject zijn voor individu
 ele begeleiding bij een ELP-psycholoog wanneer je wachtende bent om te kun
 nen starten. Je krijgt tijdens deze cursus tips en adviezen\, waarmee je o
 nmiddellijk aan de slag kan.\n\ninschrijven kan via: deze link\n\nMakkeli
 jke bereikbaar voor regio Tongeren- Borgloon
ATTACH;FMTTYPE=image/jpeg:https://ggzlimburg.be/app/uploads/2026/02/Flyer-
 Groepssessie-Zelfzorg.png
CATEGORIES:18 jaar en ouder,Groepsaanbod,Leeftijd
LOCATION:Gezondheidshuis Tongeren\, Via Julianus 15\, Tongeren\, 3700\, Bel
 gië
GEO:50.782156;5.469463
X-APPLE-STRUCTURED-LOCATION;VALUE=URI;X-ADDRESS=Via Julianus 15\, Tongeren\
 , 3700\, België;X-APPLE-RADIUS=100;X-TITLE=Gezondheidshuis Tongeren:geo:5
 0.782156,5.469463
END:VEVENT
END:VCALENDAR